View In:
ArcGIS JavaScript
ArcGIS Online Map Viewer
ArcGIS Earth
ArcMap
View Footprint In:
ArcGIS Online Map Viewer
Service Description: Ortofotomapa/Orto2022_COB
Name: Ortofotomapa/Orto2022_COB
Description:
Single Fused Map Cache: true
Tile Info:
- Height: 256
- Width: 256
- DPI: 96
-
Levels of Detail: 19
-
Level ID: 0
[ Start Tile, End Tile ]
- Resolution: 78085.6511970123
- Scale: 2.951268706658732E8
-
Level ID: 1
[ Start Tile, End Tile ]
- Resolution: 39042.82559850615
- Scale: 1.475634353329366E8
-
Level ID: 2
[ Start Tile, End Tile ]
- Resolution: 19521.412799253074
- Scale: 7.37817176664683E7
-
Level ID: 3
[ Start Tile, End Tile ]
- Resolution: 9760.706399626537
- Scale: 3.689085883323415E7
-
Level ID: 4
[ Start Tile, End Tile ]
- Resolution: 4880.3531998132685
- Scale: 1.8445429416617077E7
-
Level ID: 5
[ Start Tile, End Tile ]
- Resolution: 2440.1765999066342
- Scale: 9222714.708308538
-
Level ID: 6
[ Start Tile, End Tile ]
- Resolution: 1220.0882999533171
- Scale: 4611357.354154269
-
Level ID: 7
[ Start Tile, End Tile ]
- Resolution: 610.0441499766586
- Scale: 2305678.6770771346
-
Level ID: 8
[ Start Tile, End Tile ]
- Resolution: 305.0220749883293
- Scale: 1152839.3385385673
-
Level ID: 9
[ Start Tile, End Tile ]
- Resolution: 152.51103749416464
- Scale: 576419.6692692837
-
Level ID: 10
[ Start Tile, End Tile ]
- Resolution: 76.25551874708232
- Scale: 288209.8346346418
-
Level ID: 11
[ Start Tile, End Tile ]
- Resolution: 38.12775937354116
- Scale: 144104.9173173209
-
Level ID: 12
[ Start Tile, End Tile ]
- Resolution: 19.06387968677058
- Scale: 72052.45865866046
-
Level ID: 13
[ Start Tile, End Tile ]
- Resolution: 9.53193984338529
- Scale: 36026.22932933023
-
Level ID: 14
[ Start Tile, End Tile ]
- Resolution: 4.765969921692645
- Scale: 18013.114664665114
-
Level ID: 15
[ Start Tile, End Tile ]
- Resolution: 2.3829849608463225
- Scale: 9006.557332332557
-
Level ID: 16
[ Start Tile, End Tile ]
- Resolution: 1.1914924804231612
- Scale: 4503.2786661662785
-
Level ID: 17
[ Start Tile, End Tile ]
- Resolution: 0.5957462402115806
- Scale: 2251.6393330831393
-
Level ID: 18
[ Start Tile, End Tile ]
- Resolution: 0.2978731201057903
- Scale: 1125.8196665415696
- Format: MIXED
- Compression Quality: 75.0
- LERC Error: NaN
- Origin: X: -9494963.353217574
Y: 4694963.353217574
- Spatial Reference: 2180
(2180)
Storage Info:
- Storage Format: esriMapCacheStorageModeCompactV2
- Packet Size: 128
Extent:
XMin: 436823.6910761369
YMin: 197595.69247542907
XMax: 542870.1410761346
YMax: 343865.192475426
Spatial Reference: 2180
(2180)
Initial Extent:
XMin: 436823.6910761369
YMin: 197595.69247542907
XMax: 542870.1410761346
YMax: 343865.192475426
Spatial Reference: 2180
(2180)
Full Extent:
XMin: 436823.6910761369
YMin: 197595.69247542907
XMax: 542870.1410761346
YMax: 343865.192475426
Spatial Reference: 2180
(2180)
Time Info:
Start Time Field: OdRoku
End Time Field: DoRoku
Time Extent:
[2022/01/02 00:00:00 UTC, 2022/12/31 00:00:00 UTC]
Time Reference:
N/A
Pixel Size X: 0.049999999999998934
Pixel Size Y: 0.049999999999998955
Band Count: 3
Pixel Type: U8
RasterFunction Infos: {"rasterFunctionInfos": [
{
"name": "Orto2022_sl",
"description": "Ortofotomapa docięta do granic woj. śląskiego",
"help": ""
},
{
"name": "None",
"description": "Make a Raster or Raster Dataset into a Function Raster Dataset.",
"help": ""
}
]}
Mensuration Capabilities: None
Has Histograms: true
Has Colormap: false
Has Multi Dimensions : false
Rendering Rule:
Min Scale: 2305678.6770771346
Max Scale: 1125.8196665415696
Min LOD: 7
Max LOD: 18
Copyright Text:
Service Data Type: esriImageServiceDataTypeRGB
Min Values: 1, 1, 1
Max Values: 248, 245, 250
Mean Values: 138.56322362003948, 133.18338878886152, 117.41411298406898
Standard Deviation Values: 31.55881997915048, 29.144027190681083, 27.81154795722947
Object ID Field: OBJECTID
Fields:
-
OBJECTID
(
type: esriFieldTypeOID, alias: OBJECTID
)
-
Shape
(
type: esriFieldTypeGeometry, alias: Shape
)
-
Name
(
type: esriFieldTypeString, alias: Name, length: 200
)
-
MinPS
(
type: esriFieldTypeDouble, alias: MinPS
)
-
MaxPS
(
type: esriFieldTypeDouble, alias: MaxPS
)
-
LowPS
(
type: esriFieldTypeDouble, alias: LowPS
)
-
HighPS
(
type: esriFieldTypeDouble, alias: HighPS
)
-
Category
(
type: esriFieldTypeInteger, alias: Category
, Coded Values:
[0: Unknown]
, [1: Primary]
, [2: Overview]
, ...6 more...
)
-
Tag
(
type: esriFieldTypeString, alias: Tag, length: 100
)
-
GroupName
(
type: esriFieldTypeString, alias: GroupName, length: 100
)
-
ProductName
(
type: esriFieldTypeString, alias: ProductName, length: 100
)
-
CenterX
(
type: esriFieldTypeDouble, alias: CenterX
)
-
CenterY
(
type: esriFieldTypeDouble, alias: CenterY
)
-
ZOrder
(
type: esriFieldTypeInteger, alias: ZOrder
)
-
Shape_Length
(
type: esriFieldTypeDouble, alias: Shape_Length
)
-
Shape_Area
(
type: esriFieldTypeDouble, alias: Shape_Area
)
-
OdRoku
(
type: esriFieldTypeDate, alias: OdRoku, length: 8
)
-
DoRoku
(
type: esriFieldTypeDate, alias: DoRoku, length: 8
)
Default Mosaic Method: ByAttribute
Allowed Mosaic Methods: ByAttribute,NorthWest,Center,LockRaster,Nadir,Viewpoint,Seamline,None
SortField: MinPS
SortValue:
Mosaic Operator: First
Default Compression Quality: 75
Default Resampling Method: Bilinear
Max Record Count: 1000
Max Image Height: 4100
Max Image Width: 15000
Max Download Image Count: 20
Max Mosaic Image Count: 120
Allow Raster Function: true
Allow Copy: true
Allow Analysis: true
Allow Compute TiePoints: false
Supports Statistics: true
Supports Advanced Queries: true
Use StandardizedQueries: true
Raster Type Infos:
Name: Raster Dataset
Description: Supports all ArcGIS Raster Datasets
Help:
Has Raster Attribute Table: false
Edit Fields Info: null
Ownership Based AccessControl For Rasters: null
Child Resources:
Info
Histograms
Statistics
Key Properties
Legend
Raster Function Infos
Supported Operations:
Export Image
Query
Identify
Compute Histograms
Compute Statistics Histograms
Get Samples
Compute Class Statistics
Query Boundary
Compute Pixel Location
Compute Angles
Validate
Project