{
 "currentVersion": 10.91,
 "serviceDescription": "Ortofotomapa/Orto2022_COB",
 "name": "Ortofotomapa/Orto2022_COB",
 "description": "",
 "extent": {
  "xmin": 436823.6910761369,
  "ymin": 197595.69247542907,
  "xmax": 542870.1410761346,
  "ymax": 343865.192475426,
  "spatialReference": {
   "wkid": 2180,
   "latestWkid": 2180
  }
 },
 "initialExtent": {
  "xmin": 436823.6910761369,
  "ymin": 197595.69247542907,
  "xmax": 542870.1410761346,
  "ymax": 343865.192475426,
  "spatialReference": {
   "wkid": 2180,
   "latestWkid": 2180
  }
 },
 "fullExtent": {
  "xmin": 436823.6910761369,
  "ymin": 197595.69247542907,
  "xmax": 542870.1410761346,
  "ymax": 343865.192475426,
  "spatialReference": {
   "wkid": 2180,
   "latestWkid": 2180
  }
 },
 "hasMultidimensions": false,
 "timeInfo": {
  "startTimeField": "OdRoku",
  "endTimeField": "DoRoku",
  "timeExtent": [
   1641081600000,
   1672444800000
  ],
  "timeReference": null
 },
 "pixelSizeX": 0.049999999999998934,
 "pixelSizeY": 0.049999999999998955,
 "datasetFormat": "AMD",
 "uncompressedSize": 18613633461930,
 "blockWidth": 2048,
 "blockHeight": 256,
 "compressionType": "None",
 "bandNames": [
  "Red",
  "Green",
  "Blue"
 ],
 "allowCopy": true,
 "allowAnalysis": true,
 "bandCount": 3,
 "pixelType": "U8",
 "minPixelSize": 0.2978731201057903,
 "maxPixelSize": 610.0441499766586,
 "copyrightText": "",
 "serviceDataType": "esriImageServiceDataTypeRGB",
 "serviceSourceType": "esriImageServiceSourceTypeMosaicDataset",
 "minValues": [
  1,
  1,
  1
 ],
 "maxValues": [
  248,
  245,
  250
 ],
 "meanValues": [
  138.56322362003948,
  133.18338878886152,
  117.41411298406898
 ],
 "stdvValues": [
  31.55881997915048,
  29.144027190681083,
  27.81154795722947
 ],
 "objectIdField": "OBJECTID",
 "fields": [
  {
   "name": "OBJECTID",
   "type": "esriFieldTypeOID",
   "alias": "OBJECTID",
   "domain": null
  },
  {
   "name": "Shape",
   "type": "esriFieldTypeGeometry",
   "alias": "Shape",
   "domain": null
  },
  {
   "name": "Name",
   "type": "esriFieldTypeString",
   "alias": "Name",
   "domain": null,
   "length": 200
  },
  {
   "name": "MinPS",
   "type": "esriFieldTypeDouble",
   "alias": "MinPS",
   "domain": null
  },
  {
   "name": "MaxPS",
   "type": "esriFieldTypeDouble",
   "alias": "MaxPS",
   "domain": null
  },
  {
   "name": "LowPS",
   "type": "esriFieldTypeDouble",
   "alias": "LowPS",
   "domain": null
  },
  {
   "name": "HighPS",
   "type": "esriFieldTypeDouble",
   "alias": "HighPS",
   "domain": null
  },
  {
   "name": "Category",
   "type": "esriFieldTypeInteger",
   "alias": "Category",
   "domain": {
    "type": "codedValue",
    "name": "MosaicCatalogItemCategoryDomain",
    "description": "Catalog item categories.",
    "codedValues": [
     {
      "name": "Unknown",
      "code": 0
     },
     {
      "name": "Primary",
      "code": 1
     },
     {
      "name": "Overview",
      "code": 2
     },
     {
      "name": "Unprocessed Overview",
      "code": 3
     },
     {
      "name": "Partial Overview",
      "code": 4
     },
     {
      "name": "Inactive",
      "code": 5
     },
     {
      "name": "Uploaded",
      "code": 253
     },
     {
      "name": "Incomplete",
      "code": 254
     },
     {
      "name": "Custom",
      "code": 255
     }
    ],
    "mergePolicy": "esriMPTDefaultValue",
    "splitPolicy": "esriSPTDefaultValue"
   }
  },
  {
   "name": "Tag",
   "type": "esriFieldTypeString",
   "alias": "Tag",
   "domain": null,
   "length": 100
  },
  {
   "name": "GroupName",
   "type": "esriFieldTypeString",
   "alias": "GroupName",
   "domain": null,
   "length": 100
  },
  {
   "name": "ProductName",
   "type": "esriFieldTypeString",
   "alias": "ProductName",
   "domain": null,
   "length": 100
  },
  {
   "name": "CenterX",
   "type": "esriFieldTypeDouble",
   "alias": "CenterX",
   "domain": null
  },
  {
   "name": "CenterY",
   "type": "esriFieldTypeDouble",
   "alias": "CenterY",
   "domain": null
  },
  {
   "name": "ZOrder",
   "type": "esriFieldTypeInteger",
   "alias": "ZOrder",
   "domain": null
  },
  {
   "name": "Shape_Length",
   "type": "esriFieldTypeDouble",
   "alias": "Shape_Length",
   "domain": null
  },
  {
   "name": "Shape_Area",
   "type": "esriFieldTypeDouble",
   "alias": "Shape_Area",
   "domain": null
  },
  {
   "name": "OdRoku",
   "type": "esriFieldTypeDate",
   "alias": "OdRoku",
   "domain": null,
   "length": 8
  },
  {
   "name": "DoRoku",
   "type": "esriFieldTypeDate",
   "alias": "DoRoku",
   "domain": null,
   "length": 8
  }
 ],
 "capabilities": "Image,Metadata,Catalog",
 "defaultMosaicMethod": "ByAttribute",
 "allowedMosaicMethods": "ByAttribute,NorthWest,Center,LockRaster,Nadir,Viewpoint,Seamline,None",
 "sortField": "MinPS",
 "sortValue": "",
 "sortAscending": true,
 "mosaicOperator": "First",
 "maxDownloadSizeLimit": 2048,
 "defaultCompressionQuality": 75,
 "defaultResamplingMethod": "Bilinear",
 "maxImageHeight": 4100,
 "maxImageWidth": 15000,
 "maxRecordCount": 1000,
 "maxDownloadImageCount": 20,
 "maxMosaicImageCount": 120,
 "singleFusedMapCache": true,
 "tileInfo": {
  "rows": 256,
  "cols": 256,
  "dpi": 96,
  "format": "MIXED",
  "compressionQuality": 75,
  "origin": {
   "x": -9494963.353217574,
   "y": 4694963.353217574
  },
  "spatialReference": {
   "wkid": 2180,
   "latestWkid": 2180
  },
  "lods": [
   {
    "level": 0,
    "resolution": 78085.6511970123,
    "scale": 2.951268706658732E8
   },
   {
    "level": 1,
    "resolution": 39042.82559850615,
    "scale": 1.475634353329366E8
   },
   {
    "level": 2,
    "resolution": 19521.412799253074,
    "scale": 7.37817176664683E7
   },
   {
    "level": 3,
    "resolution": 9760.706399626537,
    "scale": 3.689085883323415E7
   },
   {
    "level": 4,
    "resolution": 4880.3531998132685,
    "scale": 1.8445429416617077E7
   },
   {
    "level": 5,
    "resolution": 2440.1765999066342,
    "scale": 9222714.708308538
   },
   {
    "level": 6,
    "resolution": 1220.0882999533171,
    "scale": 4611357.354154269
   },
   {
    "level": 7,
    "resolution": 610.0441499766586,
    "scale": 2305678.6770771346
   },
   {
    "level": 8,
    "resolution": 305.0220749883293,
    "scale": 1152839.3385385673
   },
   {
    "level": 9,
    "resolution": 152.51103749416464,
    "scale": 576419.6692692837
   },
   {
    "level": 10,
    "resolution": 76.25551874708232,
    "scale": 288209.8346346418
   },
   {
    "level": 11,
    "resolution": 38.12775937354116,
    "scale": 144104.9173173209
   },
   {
    "level": 12,
    "resolution": 19.06387968677058,
    "scale": 72052.45865866046
   },
   {
    "level": 13,
    "resolution": 9.53193984338529,
    "scale": 36026.22932933023
   },
   {
    "level": 14,
    "resolution": 4.765969921692645,
    "scale": 18013.114664665114
   },
   {
    "level": 15,
    "resolution": 2.3829849608463225,
    "scale": 9006.557332332557
   },
   {
    "level": 16,
    "resolution": 1.1914924804231612,
    "scale": 4503.2786661662785
   },
   {
    "level": 17,
    "resolution": 0.5957462402115806,
    "scale": 2251.6393330831393
   },
   {
    "level": 18,
    "resolution": 0.2978731201057903,
    "scale": 1125.8196665415696
   }
  ]
 },
 "storageInfo": {
  "storageFormat": "esriMapCacheStorageModeCompactV2",
  "packetSize": 128
 },
 "cacheType": "Map",
 "allowRasterFunction": true,
 "rasterFunctionInfos": [
  {
   "name": "Orto2022_sl",
   "description": "Ortofotomapa docięta do granic woj. śląskiego",
   "help": ""
  },
  {
   "name": "None",
   "description": "Make a Raster or Raster Dataset into a Function Raster Dataset.",
   "help": ""
  }
 ],
 "rasterTypeInfos": [
  {
   "name": "Raster Dataset",
   "description": "Supports all ArcGIS Raster Datasets",
   "help": ""
  }
 ],
 "mensurationCapabilities": "None",
 "hasHistograms": true,
 "hasColormap": false,
 "hasRasterAttributeTable": false,
 "minScale": 2305678.6770771346,
 "maxScale": 1125.8196665415696,
 "minLOD": 7,
 "maxLOD": 18,
 "exportTilesAllowed": false,
 "supportsStatistics": true,
 "supportsAdvancedQueries": true,
 "editFieldsInfo": null,
 "ownershipBasedAccessControlForRasters": null,
 "allowComputeTiePoints": false,
 "useStandardizedQueries": true,
 "advancedQueryCapabilities": {
  "useStandardizedQueries": true,
  "supportsStatistics": true,
  "supportsOrderBy": true,
  "supportsDistinct": true,
  "supportsPagination": true
 },
 "spatialReference": {
  "wkid": 2180,
  "latestWkid": 2180
 }
}
