View In:
ArcGIS JavaScript
ArcGIS Online Map Viewer
ArcGIS Earth
ArcMap
View Footprint In:
ArcGIS Online Map Viewer
Service Description: Ortofotomapa/Ortofotomapa2013
Name: Ortofotomapa/Ortofotomapa2013
Description:
Single Fused Map Cache: false
Extent:
XMin: 2017623.4012999982
YMin: 6385152.481250701
XMax: 2181195.5012619095
YMax: 6602896.681199998
Spatial Reference: 102100
(3857)
Initial Extent:
XMin: 2017623.4012999982
YMin: 6385152.481250701
XMax: 2181195.5012619095
YMax: 6602896.681199998
Spatial Reference: 102100
(3857)
Full Extent:
XMin: 2017623.4012999982
YMin: 6385152.481250701
XMax: 2181195.5012619095
YMax: 6602896.681199998
Spatial Reference: 102100
(3857)
Time Info:
Start Time Field: OdRoku
End Time Field: DoRoku
Time Extent:
[2013/01/31 00:00:00 UTC, 2014/12/31 00:00:00 UTC]
Time Reference:
N/A
Pixel Size X: 0.09999999997671445
Pixel Size Y: 0.09999999997671448
Band Count: 3
Pixel Type: U8
RasterFunction Infos: {"rasterFunctionInfos": [
{
"name": "DoGranic",
"description": "Ortofotomapa docięta do granic woj. śląskiego",
"help": ""
},
{
"name": "None",
"description": "Make a Raster or Raster Dataset into a Function Raster Dataset.",
"help": ""
}
]}
Mensuration Capabilities: None
Has Histograms: true
Has Colormap: false
Has Multi Dimensions : false
Rendering Rule:
Min Scale: 0
Max Scale: 0
Copyright Text:
Service Data Type: esriImageServiceDataTypeRGB
Min Values: 26, 29, 18
Max Values: 254, 254, 254
Mean Values: 114.99158129627732, 115.37851145935628, 98.22103521538912
Standard Deviation Values: 25.135761761879373, 25.021595586139657, 25.01208596788256
Object ID Field: OBJECTID
Fields:
-
OBJECTID
(
type: esriFieldTypeOID, alias: OBJECTID
)
-
Shape
(
type: esriFieldTypeGeometry, alias: Shape
)
-
Name
(
type: esriFieldTypeString, alias: Name, length: 200
)
-
MinPS
(
type: esriFieldTypeDouble, alias: MinPS
)
-
MaxPS
(
type: esriFieldTypeDouble, alias: MaxPS
)
-
LowPS
(
type: esriFieldTypeDouble, alias: LowPS
)
-
HighPS
(
type: esriFieldTypeDouble, alias: HighPS
)
-
Category
(
type: esriFieldTypeInteger, alias: Category
, Coded Values:
[0: Unknown]
, [1: Primary]
, [2: Overview]
, ...6 more...
)
-
Tag
(
type: esriFieldTypeString, alias: Tag, length: 100
)
-
GroupName
(
type: esriFieldTypeString, alias: GroupName, length: 100
)
-
ProductName
(
type: esriFieldTypeString, alias: ProductName, length: 100
)
-
CenterX
(
type: esriFieldTypeDouble, alias: CenterX
)
-
CenterY
(
type: esriFieldTypeDouble, alias: CenterY
)
-
ZOrder
(
type: esriFieldTypeInteger, alias: ZOrder
)
-
Shape_Length
(
type: esriFieldTypeDouble, alias: Shape_Length
)
-
Shape_Area
(
type: esriFieldTypeDouble, alias: Shape_Area
)
-
OdRoku
(
type: esriFieldTypeDate, alias: Od roku, length: 8
)
-
DoRoku
(
type: esriFieldTypeDate, alias: Do roku, length: 8
)
Default Mosaic Method: ByAttribute
Allowed Mosaic Methods: ByAttribute,NorthWest,Center,LockRaster,Nadir,Viewpoint,Seamline,None
SortField: MinPS
SortValue:
Mosaic Operator: First
Default Compression Quality: 75
Default Resampling Method: Bilinear
Max Record Count: 1000
Max Image Height: 4100
Max Image Width: 15000
Max Download Image Count: 20
Max Mosaic Image Count: 120
Allow Raster Function: true
Allow Copy: true
Allow Analysis: true
Allow Compute TiePoints: false
Supports Statistics: true
Supports Advanced Queries: true
Use StandardizedQueries: true
Raster Type Infos:
Name: Raster Dataset
Description: Supports all ArcGIS Raster Datasets
Help:
Has Raster Attribute Table: false
Edit Fields Info: null
Ownership Based AccessControl For Rasters: null
Child Resources:
Info
Histograms
Statistics
Key Properties
Legend
Raster Function Infos
Supported Operations:
Export Image
Query
Identify
Compute Histograms
Compute Statistics Histograms
Get Samples
Compute Class Statistics
Query Boundary
Compute Pixel Location
Compute Angles
Validate
Project